BEGIN:VCALENDAR
VERSION:2.0
PRODID:-//CIDESCO Congress - ECPv5.14.1//NONSGML v1.0//EN
CALSCALE:GREGORIAN
METHOD:PUBLISH
X-WR-CALNAME:CIDESCO Congress
X-ORIGINAL-URL:https://cidescocongress.com
X-WR-CALDESC:Events for CIDESCO Congress
REFRESH-INTERVAL;VALUE=DURATION:PT1H
X-Robots-Tag:noindex
X-PUBLISHED-TTL:PT1H
BEGIN:VTIMEZONE
TZID:Asia/Shanghai
BEGIN:STANDARD
TZOFFSETFROM:+0800
TZOFFSETTO:+0800
TZNAME:CST
DTSTART:20220101T000000
END:STANDARD
TZID:UTC
BEGIN:STANDARD
TZOFFSETFROM:+0000
TZOFFSETTO:+0000
TZNAME:UTC
DTSTART:20220101T000000
END:STANDARD
END:VTIMEZONE
BEGIN:VEVENT
DTSTART;TZID=Asia/Shanghai:20220917T190000
DTEND;TZID=Asia/Shanghai:20220917T220000
DTSTAMP:20260423T084846
CREATED:20220325T123231Z
LAST-MODIFIED:20220704T162113Z
UID:138-1663441200-1663452000@cidescocongress.com
SUMMARY:Gala Dinner
DESCRIPTION:
URL:https://cidescocongress.com/event/gala-dinner/
LOCATION:Discovery Kartika Plaza – Helipad Area\, Jalan Kartika Plaza\, South Kuta Beach\, Bali\, 80361\, Indonesia
ORGANIZER;CN="CIDESCO%20Section%20Indonesia":MAILTO:cidescobali2022@gmail.com
END:VEVENT
BEGIN:VEVENT
DTSTART;TZID=Asia/Shanghai:20220917T130000
DTEND;TZID=Asia/Shanghai:20220917T160000
DTSTAMP:20260423T084846
CREATED:20220615T151047Z
LAST-MODIFIED:20220616T112502Z
UID:334-1663419600-1663430400@cidescocongress.com
SUMMARY:Congress Lectures Programme Afternoon
DESCRIPTION:
URL:https://cidescocongress.com/event/congress-lectures-programme-afternoon/
LOCATION:Discovery Kartika Plaza\, Jalan Kartika Plaza\, South Kuta Beach\, Bali\, 80361\, Indonesia
ORGANIZER;CN="CIDESCO%20Section%20Indonesia":MAILTO:cidescobali2022@gmail.com
END:VEVENT
BEGIN:VEVENT
DTSTART;TZID=Asia/Shanghai:20220917T120000
DTEND;TZID=Asia/Shanghai:20220917T130000
DTSTAMP:20260423T084846
CREATED:20220325T121749Z
LAST-MODIFIED:20220609T085310Z
UID:133-1663416000-1663419600@cidescocongress.com
SUMMARY:CIDESCO Examiners Luncheon (Invitation only)
DESCRIPTION:
URL:https://cidescocongress.com/event/cidesco-examiners-luncheon/
LOCATION:Discovery Kartika Plaza – Sunset Lounge\, Jalan Kartika Plaza\, South Kuta Beach\, Bali\, 80361\, Indonesia
ORGANIZER;CN="CIDESCO%20Section%20Indonesia":MAILTO:cidescobali2022@gmail.com
END:VEVENT
BEGIN:VEVENT
DTSTART;TZID=Asia/Shanghai:20220917T090000
DTEND;TZID=Asia/Shanghai:20220917T170000
DTSTAMP:20260423T084846
CREATED:20220325T122216Z
LAST-MODIFIED:20220530T161449Z
UID:135-1663405200-1663434000@cidescocongress.com
SUMMARY:Makeup & Body Art Competition
DESCRIPTION:
URL:https://cidescocongress.com/event/makeup-body-art-competition/
LOCATION:Discovery Kartika Plaza – Shinta Room\, Jalan Kartika Plaza\, South Kuta Beach\, Bali\, 80361\, Indonesia
ORGANIZER;CN="CIDESCO%20Section%20Indonesia":MAILTO:cidescobali2022@gmail.com
END:VEVENT
BEGIN:VEVENT
DTSTART;TZID=Asia/Shanghai:20220917T090000
DTEND;TZID=Asia/Shanghai:20220917T120000
DTSTAMP:20260423T084846
CREATED:20220615T150800Z
LAST-MODIFIED:20220616T112406Z
UID:332-1663405200-1663416000@cidescocongress.com
SUMMARY:Congress Lectures Programme Morning
DESCRIPTION:
URL:https://cidescocongress.com/event/congress-lectures-programme-morning/
LOCATION:Discovery Kartika Plaza\, Jalan Kartika Plaza\, South Kuta Beach\, Bali\, 80361\, Indonesia
ORGANIZER;CN="CIDESCO%20Section%20Indonesia":MAILTO:cidescobali2022@gmail.com
END:VEVENT
BEGIN:VEVENT
DTSTART;TZID=Asia/Shanghai:20220915T183000
DTEND;TZID=Asia/Shanghai:20220915T203000
DTSTAMP:20260423T084846
CREATED:20220325T100758Z
LAST-MODIFIED:20220704T162215Z
UID:109-1663266600-1663273800@cidescocongress.com
SUMMARY:Welcome Reception
DESCRIPTION:
URL:https://cidescocongress.com/event/welcome-reception/
LOCATION:Discovery Kartika Plaza – The Pond Open Air\, Jalan Kartika Plaza\, South Kuta Beach\, Bali\, 80361\, Indonesia
ORGANIZER;CN="CIDESCO%20Section%20Indonesia":MAILTO:cidescobali2022@gmail.com
END:VEVENT
BEGIN:VEVENT
DTSTART;TZID=Asia/Shanghai:20220915T100000
DTEND;TZID=Asia/Shanghai:20220915T200000
DTSTAMP:20260423T084846
CREATED:20220325T120531Z
LAST-MODIFIED:20220425T085048Z
UID:124-1663236000-1663272000@cidescocongress.com
SUMMARY:CIDESCO Exhibition
DESCRIPTION:
URL:https://cidescocongress.com/event/cidesco-exhibition/
LOCATION:Discovery Kartika Plaza – Pre Function Room\, Rama-Shinta Room & Arjuna Corridor\, Jalan Kartika Plaza\, South Kuta Beach\, Bali\, 80361\, Indonesia
ORGANIZER;CN="CIDESCO%20Section%20Indonesia":MAILTO:cidescobali2022@gmail.com
END:VEVENT
BEGIN:VEVENT
DTSTART;TZID=Asia/Shanghai:20220915T090000
DTEND;TZID=Asia/Shanghai:20220917T220000
DTSTAMP:20260423T084846
CREATED:20220615T145339Z
LAST-MODIFIED:20220705T131724Z
UID:328-1663232400-1663452000@cidescocongress.com
SUMMARY:Regular Package
DESCRIPTION:Includes: Welcome Reception\, Gala Dinner\, Congress Lectures Programme and Antigen Test.
URL:https://cidescocongress.com/event/regular-package/
LOCATION:Discovery Kartika Plaza\, Jalan Kartika Plaza\, South Kuta Beach\, Bali\, 80361\, Indonesia
ORGANIZER;CN="CIDESCO%20Section%20Indonesia":MAILTO:cidescobali2022@gmail.com
END:VEVENT
BEGIN:VEVENT
DTSTART;TZID=Asia/Shanghai:20220915T090000
DTEND;TZID=Asia/Shanghai:20220915T170000
DTSTAMP:20260423T084846
CREATED:20220325T110242Z
LAST-MODIFIED:20220609T085254Z
UID:116-1663232400-1663261200@cidescocongress.com
SUMMARY:School Meeting (Invitation only)
DESCRIPTION:At this meeting you will learn about the new developments within CIDESCO and be able to network with other schools from around the world it is a fantastic opportunity for all schools.
URL:https://cidescocongress.com/event/school-meeting/
LOCATION:Discovery Kartika Plaza – Kharisma Ballroom\, Jalan Kartika Plaza\, South Kuta Beach\, Bali\, 80361\, Indonesia
ORGANIZER;CN="CIDESCO%20Section%20Indonesia":MAILTO:cidescobali2022@gmail.com
END:VEVENT
BEGIN:VEVENT
DTSTART;VALUE=DATE:20220915
DTEND;VALUE=DATE:20220918
DTSTAMP:20260423T084846
CREATED:20220509T140235Z
LAST-MODIFIED:20220615T144224Z
UID:267-1663200000-1663459199@cidescocongress.com
SUMMARY:Covid-19 Test
DESCRIPTION:
URL:https://cidescocongress.com/event/covid-19/
LOCATION:Discovery Kartika Plaza\, Jalan Kartika Plaza\, South Kuta Beach\, Bali\, 80361\, Indonesia
ORGANIZER;CN="CIDESCO%20Section%20Indonesia":MAILTO:cidescobali2022@gmail.com
END:VEVENT
END:VCALENDAR